BEGIN:VCALENDAR
VERSION:2.0
PRODID:-//Sabre//Sabre VObject 4.5.8//EN
CALSCALE:GREGORIAN
BEGIN:VEVENT
UID:sabre-vobject-dd91005b-425f-4f6f-bff5-026a777b738d
DTSTAMP:20260421T030006Z
SUMMARY:Markusbittgang
DESCRIPTION:https://pfarreien-bistum-augsburg.df-preview.de/markusbittgang_
 id1741714
DTSTART;TZID=Europe/Berlin:20260422T183000
DURATION:PT30M
LOCATION:St. Georg
END:VEVENT
END:VCALENDAR
