BEGIN:VCALENDAR
VERSION:2.0
PRODID:-//Sabre//Sabre VObject 4.5.8//EN
CALSCALE:GREGORIAN
BEGIN:VEVENT
UID:sabre-vobject-aa66dff5-a348-4257-8325-be949cc7eed0
DTSTAMP:20260421T091523Z
SUMMARY:Bibelkreis im Pfarrhof
DESCRIPTION:https://pfarreien-bistum-augsburg.df-preview.de/bibelkreis-im-p
 farrhof_id1741710
DTSTART;TZID=Europe/Berlin:20260422T194500
DURATION:PT30M
LOCATION:St. Peter und Paul
END:VEVENT
END:VCALENDAR
