BEGIN:VCALENDAR
VERSION:2.0
PRODID:-//Sabre//Sabre VObject 4.5.8//EN
CALSCALE:GREGORIAN
BEGIN:VEVENT
UID:sabre-vobject-da3c593e-1395-4881-aa04-bb805bccb480
DTSTAMP:20260421T152529Z
SUMMARY:Erstkommunionfeier
DESCRIPTION:https://pfarreien-bistum-augsburg.df-preview.de/erstkommunionfe
 ier_id1741620
DTSTART;TZID=Europe/Berlin:20260419T100000
DURATION:PT30M
LOCATION:St. Michael
END:VEVENT
END:VCALENDAR
