BEGIN:VCALENDAR
VERSION:2.0
PRODID:-//Sabre//Sabre VObject 4.5.8//EN
CALSCALE:GREGORIAN
BEGIN:VEVENT
UID:sabre-vobject-de5b46d0-b781-4506-bc28-f93c8e13969f
DTSTAMP:20260422T070056Z
SUMMARY:Abendmesse
DESCRIPTION:https://pfarreien-bistum-augsburg.df-preview.de/abendmesse_id17
 41570
DTSTART;TZID=Europe/Berlin:20260422T191500
DURATION:PT30M
LOCATION:Wallfahrtskirche Maria vom Berge Karmel
END:VEVENT
END:VCALENDAR
