BEGIN:VCALENDAR
VERSION:2.0
PRODID:-//Sabre//Sabre VObject 4.5.8//EN
CALSCALE:GREGORIAN
BEGIN:VEVENT
UID:sabre-vobject-3c08c05a-4720-4b03-97de-30952a1dc325
DTSTAMP:20260422T033432Z
SUMMARY:Hl. Messe mit den Kommunionkinder\; anschl. Ausflug nach Bonlanden
DESCRIPTION:https://pfarreien-bistum-augsburg.df-preview.de/hl-messe-mit-de
 n-kommunionkinder-anschl-ausflug-nach-bonlanden_id1741545
DTSTART;TZID=Europe/Berlin:20260424T081500
DURATION:PT30M
LOCATION:St. Jakobus maj.
END:VEVENT
END:VCALENDAR
