BEGIN:VCALENDAR
VERSION:2.0
PRODID:-//Sabre//Sabre VObject 4.5.8//EN
CALSCALE:GREGORIAN
BEGIN:VEVENT
UID:sabre-vobject-8b2fc10b-94cc-4f79-af95-201dd1ff3863
DTSTAMP:20260423T051734Z
SUMMARY:Festgottesdienst zu Pfingsten
DESCRIPTION:https://pfarreien-bistum-augsburg.df-preview.de/festgottesdiens
 t-zu-pfingsten_id1741503
DTSTART;TZID=Europe/Berlin:20260524T090000
DURATION:PT30M
LOCATION:Maria Schnee
END:VEVENT
END:VCALENDAR
