BEGIN:VCALENDAR
VERSION:2.0
PRODID:-//Sabre//Sabre VObject 4.5.8//EN
CALSCALE:GREGORIAN
BEGIN:VEVENT
UID:sabre-vobject-9004f01c-e52e-4fd9-a6d0-3617ad519ab0
DTSTAMP:20260420T180546Z
SUMMARY:Heilige Messe in Heißesheim
DESCRIPTION:https://pfarreien-bistum-augsburg.df-preview.de/heilige-messe-i
 n-heissesheim_id1741409
DTSTART;TZID=Europe/Berlin:20260420T183000
DURATION:PT30M
LOCATION:St. Martin
END:VEVENT
END:VCALENDAR
