BEGIN:VCALENDAR
VERSION:2.0
PRODID:-//Sabre//Sabre VObject 4.5.8//EN
CALSCALE:GREGORIAN
BEGIN:VEVENT
UID:sabre-vobject-fea6179a-0d0d-4deb-a9a6-3883ba52f39f
DTSTAMP:20260421T003408Z
SUMMARY:Pfarrgottesdienst
DESCRIPTION:https://pfarreien-bistum-augsburg.df-preview.de/pfarrgottesdien
 st_id1741408
DTSTART;TZID=Europe/Berlin:20260419T094500
DURATION:PT30M
LOCATION:St. Martin
END:VEVENT
END:VCALENDAR
