BEGIN:VCALENDAR
VERSION:2.0
PRODID:-//Sabre//Sabre VObject 4.5.8//EN
CALSCALE:GREGORIAN
BEGIN:VEVENT
UID:sabre-vobject-7f99e46a-bf98-4601-8049-18a55a408339
DTSTAMP:20260420T132908Z
SUMMARY:Kirchenzug von der "Alten Schule" zur Kirche
DESCRIPTION:https://pfarreien-bistum-augsburg.df-preview.de/kirchenzug-von-
 der-alten-schule-zur-kirche_id1741390
DTSTART;TZID=Europe/Berlin:20260419T100000
DURATION:PT30M
LOCATION:St. Laurentius
END:VEVENT
END:VCALENDAR
