BEGIN:VCALENDAR
VERSION:2.0
PRODID:-//Sabre//Sabre VObject 4.5.8//EN
CALSCALE:GREGORIAN
BEGIN:VEVENT
UID:sabre-vobject-aa987eed-b370-4a48-9c05-f7ea6380b40a
DTSTAMP:20260420T210218Z
SUMMARY:Heilige Messe in der Antoniuskapelle
DESCRIPTION:https://pfarreien-bistum-augsburg.df-preview.de/heilige-messe-i
 n-der-antoniuskapelle_id1741339
DTSTART;TZID=Europe/Berlin:20260421T183000
DURATION:PT30M
LOCATION:Maria Immaculata
END:VEVENT
END:VCALENDAR
