BEGIN:VCALENDAR
VERSION:2.0
PRODID:-//Sabre//Sabre VObject 4.5.8//EN
CALSCALE:GREGORIAN
BEGIN:VEVENT
UID:sabre-vobject-303684a7-4b73-452f-9405-d4e22739ba93
DTSTAMP:20260420T223143Z
SUMMARY:k e i n   Rosenkranz
DESCRIPTION:https://pfarreien-bistum-augsburg.df-preview.de/k-e-i-n-rosenkr
 anz_id1741321
DTSTART;TZID=Europe/Berlin:20260422T000000
DURATION:PT30M
LOCATION:St. Valentin
END:VEVENT
END:VCALENDAR
