BEGIN:VCALENDAR
VERSION:2.0
PRODID:-//Sabre//Sabre VObject 4.5.8//EN
CALSCALE:GREGORIAN
BEGIN:VEVENT
UID:sabre-vobject-e81b7a21-19b4-4f43-af62-0486824eb75c
DTSTAMP:20260422T165355Z
SUMMARY:Rosenkranz
DESCRIPTION:https://pfarreien-bistum-augsburg.df-preview.de/rosenkranz_id17
 41316
DTSTART;TZID=Europe/Berlin:20260420T173000
DURATION:PT30M
LOCATION:St. Georg
END:VEVENT
END:VCALENDAR
