BEGIN:VCALENDAR
VERSION:2.0
PRODID:-//Sabre//Sabre VObject 4.5.8//EN
CALSCALE:GREGORIAN
BEGIN:VEVENT
UID:sabre-vobject-f84b8d3c-14e4-4abd-b68c-144d2354b406
DTSTAMP:20260420T184651Z
SUMMARY:Dankandacht zur Erstkommunion
DESCRIPTION:https://pfarreien-bistum-augsburg.df-preview.de/dankandacht-zur
 -erstkommunion_id1741297
DTSTART;TZID=Europe/Berlin:20260419T170000
DURATION:PT30M
LOCATION:St. Laurentius
END:VEVENT
END:VCALENDAR
