BEGIN:VCALENDAR
VERSION:2.0
PRODID:-//Sabre//Sabre VObject 4.5.8//EN
CALSCALE:GREGORIAN
BEGIN:VEVENT
UID:sabre-vobject-e2d493bc-b9b6-4908-922a-8b18be610c2b
DTSTAMP:20260422T000547Z
SUMMARY:gemeinsame Dankandacht aller Erstkommunionkinder
DESCRIPTION:https://pfarreien-bistum-augsburg.df-preview.de/gemeinsame-dank
 andacht-aller-erstkommunionkinder_id1741200
DTSTART;TZID=Europe/Berlin:20260419T170000
DURATION:PT30M
LOCATION:St. Cosmas und Damian
END:VEVENT
END:VCALENDAR
