BEGIN:VCALENDAR
VERSION:2.0
PRODID:-//Sabre//Sabre VObject 4.5.8//EN
CALSCALE:GREGORIAN
BEGIN:VEVENT
UID:sabre-vobject-baca16f4-34dd-4f9e-995f-1a0513d93846
DTSTAMP:20260420T132154Z
SUMMARY:- 19.00 Uhr Eucharistische stille Anbetung-Gebetsanliegen wir bitte
 n um den Frieden in der Welt und in den Familien.
DESCRIPTION:https://pfarreien-bistum-augsburg.df-preview.de/19-00-uhr-eucha
 ristische-stille-anbetung-gebetsanliegen-wir-bitten-um-den-frieden-in-der-
 welt-und-in-den-familien_id1741188
DTSTART;TZID=Europe/Berlin:20260421T160000
DURATION:PT30M
LOCATION:St. Martin
END:VEVENT
END:VCALENDAR
