BEGIN:VCALENDAR
VERSION:2.0
PRODID:-//Sabre//Sabre VObject 4.5.8//EN
CALSCALE:GREGORIAN
BEGIN:VEVENT
UID:sabre-vobject-ccef3207-5f5a-479a-8ec9-292638b56b7c
DTSTAMP:20260421T184250Z
SUMMARY:Amt der Bruderschaft - anschl. Stille Anbetung vor dem Allerheiligs
 ten (bis 10 Uhr)
DESCRIPTION:https://pfarreien-bistum-augsburg.df-preview.de/amt-der-bruders
 chaft-anschl-stille-anbetung-vor-dem-allerheiligsten-bis-10-uhr_id1741143
DTSTART;TZID=Europe/Berlin:20260423T090000
DURATION:PT30M
LOCATION:St. Peter
END:VEVENT
END:VCALENDAR
