BEGIN:VCALENDAR
VERSION:2.0
PRODID:-//Sabre//Sabre VObject 4.5.8//EN
CALSCALE:GREGORIAN
BEGIN:VEVENT
UID:sabre-vobject-2e766062-19f6-45cf-85a3-46d1cc20d077
DTSTAMP:20260421T094324Z
SUMMARY:ökumenischer Schulgottesdienst für die dritten Klassen Grundschul
 e
DESCRIPTION:https://pfarreien-bistum-augsburg.df-preview.de/oekumenischer-s
 chulgottesdienst-fuer-die-dritten-klassen-grundschule_id1741142
DTSTART;TZID=Europe/Berlin:20260423T083000
DURATION:PT30M
LOCATION:St. Peter
END:VEVENT
END:VCALENDAR
