BEGIN:VCALENDAR
VERSION:2.0
PRODID:-//Sabre//Sabre VObject 4.5.8//EN
CALSCALE:GREGORIAN
BEGIN:VEVENT
UID:sabre-vobject-1ee81a72-f4a1-4a0b-9cf3-2837484fc401
DTSTAMP:20260421T195418Z
SUMMARY:Heilige Messe
DESCRIPTION:https://pfarreien-bistum-augsburg.df-preview.de/heilige-messe_i
 d1741140
DTSTART;TZID=Europe/Berlin:20260424T180000
DURATION:PT30M
LOCATION:St. Peter
END:VEVENT
END:VCALENDAR
