BEGIN:VCALENDAR
VERSION:2.0
PRODID:-//Sabre//Sabre VObject 4.5.8//EN
CALSCALE:GREGORIAN
BEGIN:VEVENT
UID:sabre-vobject-9a9bc0ae-357b-4e86-967a-0c4b59f32a87
DTSTAMP:20260420T193519Z
SUMMARY:Schulgottesdienst der Grundschule Kicklingen
DESCRIPTION:https://pfarreien-bistum-augsburg.df-preview.de/schulgottesdien
 st-der-grundschule-kicklingen_id1741103
DTSTART;TZID=Europe/Berlin:20260422T101500
DURATION:PT30M
LOCATION:Unsere Liebe Frau im Moos\, Kirstattstraße 14\, 89407 Dillingen a
 n der Donau-Kicklingen
END:VEVENT
END:VCALENDAR
