BEGIN:VCALENDAR
VERSION:2.0
PRODID:-//Sabre//Sabre VObject 4.5.8//EN
CALSCALE:GREGORIAN
BEGIN:VEVENT
UID:sabre-vobject-c586d6eb-bf22-4e8b-b854-6d38f0373643
DTSTAMP:20260422T031715Z
SUMMARY:Taufe
DESCRIPTION:https://pfarreien-bistum-augsburg.df-preview.de/taufe_id1741048
DTSTART;TZID=Europe/Berlin:20260418T110000
DURATION:PT30M
LOCATION:St. Mauritius
END:VEVENT
END:VCALENDAR
