BEGIN:VCALENDAR
VERSION:2.0
PRODID:-//Sabre//Sabre VObject 4.5.8//EN
CALSCALE:GREGORIAN
BEGIN:VEVENT
UID:sabre-vobject-3f2c24db-c7f2-47f4-b668-ccae33dd804f
DTSTAMP:20260421T180939Z
SUMMARY:Rosenkranz für unsere Kranken
DESCRIPTION:https://pfarreien-bistum-augsburg.df-preview.de/rosenkranz-fuer
 -unsere-kranken_id1741045
DTSTART;TZID=Europe/Berlin:20260424T160000
DURATION:PT30M
LOCATION:St. Ulrich
END:VEVENT
END:VCALENDAR
