BEGIN:VCALENDAR
VERSION:2.0
PRODID:-//Sabre//Sabre VObject 4.5.8//EN
CALSCALE:GREGORIAN
BEGIN:VEVENT
UID:sabre-vobject-376d1f13-c33d-4c72-a0de-6c4e49a6dec7
DTSTAMP:20260420T210223Z
SUMMARY:Familiengottesdienst
DESCRIPTION:https://pfarreien-bistum-augsburg.df-preview.de/familiengottesd
 ienst_id1741008
DTSTART;TZID=Europe/Berlin:20260419T103000
DURATION:PT30M
LOCATION:St. Joseph
END:VEVENT
END:VCALENDAR
