BEGIN:VCALENDAR
VERSION:2.0
PRODID:-//Sabre//Sabre VObject 4.5.8//EN
CALSCALE:GREGORIAN
BEGIN:VEVENT
UID:sabre-vobject-7ff6b923-df96-4e04-8a26-4d241c2ee4b3
DTSTAMP:20260420T232349Z
SUMMARY:Ewige Anbetung (bis 19:00 Uhr)\n17.30 Uhr Rosenkranz\, 18.00 Uhr An
 dacht\, 18.30 Uhr Stille Anbetung
DESCRIPTION:https://pfarreien-bistum-augsburg.df-preview.de/ewige-anbetung-
 bis-19-00-uhr-17-30-uhr-rosenkranz-18-00-uhr-andacht-18-30-uhr-stille-anbe
 tung_id1740817
DTSTART;TZID=Europe/Berlin:20260423T173000
DURATION:PT30M
LOCATION:St. Peter
END:VEVENT
END:VCALENDAR
