BEGIN:VCALENDAR
VERSION:2.0
PRODID:-//Sabre//Sabre VObject 4.5.8//EN
CALSCALE:GREGORIAN
BEGIN:VEVENT
UID:sabre-vobject-d2c89db1-dece-4695-a773-415ce2eedf9f
DTSTAMP:20260421T081628Z
SUMMARY:Lesehore/Laudes
DESCRIPTION:https://pfarreien-bistum-augsburg.df-preview.de/lesehore-laudes
 _id1740791
DTSTART;TZID=Europe/Berlin:20260418T071500
DURATION:PT30M
LOCATION:St. Anton
END:VEVENT
END:VCALENDAR
