BEGIN:VCALENDAR
VERSION:2.0
PRODID:-//Sabre//Sabre VObject 4.5.8//EN
CALSCALE:GREGORIAN
BEGIN:VEVENT
UID:sabre-vobject-1e2e20bc-a638-4cb1-a468-f5a2677b3da0
DTSTAMP:20260423T150226Z
SUMMARY:Holy Hour
DESCRIPTION:https://pfarreien-bistum-augsburg.df-preview.de/holy-hour_id174
 0790
DTSTART;TZID=Europe/Berlin:20260421T190000
DURATION:PT30M
LOCATION:St. Anton
END:VEVENT
END:VCALENDAR
