BEGIN:VCALENDAR
VERSION:2.0
PRODID:-//Sabre//Sabre VObject 4.5.8//EN
CALSCALE:GREGORIAN
BEGIN:VEVENT
UID:sabre-vobject-82e40de5-586f-4ea4-943e-9a0d01b4f036
DTSTAMP:20260422T095811Z
SUMMARY:Taufe in italienischer Sprache
DESCRIPTION:https://pfarreien-bistum-augsburg.df-preview.de/taufe-in-italie
 nischer-sprache_id1740786
DTSTART;TZID=Europe/Berlin:20260421T123000
DURATION:PT30M
LOCATION:St. Anton
END:VEVENT
END:VCALENDAR
