BEGIN:VCALENDAR
VERSION:2.0
PRODID:-//Sabre//Sabre VObject 4.5.8//EN
CALSCALE:GREGORIAN
BEGIN:VEVENT
UID:sabre-vobject-659133b5-7695-4613-9753-34e050e565f8
DTSTAMP:20260422T050030Z
SUMMARY:Rosenkranz für die Pfarrgemeinde
DESCRIPTION:https://pfarreien-bistum-augsburg.df-preview.de/rosenkranz-fuer
 -die-pfarrgemeinde_id1740779
DTSTART;TZID=Europe/Berlin:20260420T180000
DURATION:PT30M
LOCATION:St. Anton
END:VEVENT
END:VCALENDAR
