BEGIN:VCALENDAR
VERSION:2.0
PRODID:-//Sabre//Sabre VObject 4.5.8//EN
CALSCALE:GREGORIAN
BEGIN:VEVENT
UID:sabre-vobject-c9877838-549e-420a-8762-94a170e6b29a
DTSTAMP:20260421T170030Z
SUMMARY:Anbetung mit Sühne-Rosenkranz
DESCRIPTION:https://pfarreien-bistum-augsburg.df-preview.de/anbetung-mit-su
 ehne-rosenkranz_id1740776
DTSTART;TZID=Europe/Berlin:20260420T200000
DURATION:PT30M
LOCATION:St. Anton
END:VEVENT
END:VCALENDAR
