BEGIN:VCALENDAR
VERSION:2.0
PRODID:-//Sabre//Sabre VObject 4.5.8//EN
CALSCALE:GREGORIAN
BEGIN:VEVENT
UID:sabre-vobject-f284e25f-abb2-4ff6-894f-66f7998e2f1c
DTSTAMP:20260423T170300Z
SUMMARY:Rosenkranz für Berufungen zum Priester- und Ordensleben
DESCRIPTION:https://pfarreien-bistum-augsburg.df-preview.de/rosenkranz-fuer
 -berufungen-zum-priester-und-ordensleben_id1740773
DTSTART;TZID=Europe/Berlin:20260423T173000
DURATION:PT30M
LOCATION:St. Anton
END:VEVENT
END:VCALENDAR
