BEGIN:VCALENDAR
VERSION:2.0
PRODID:-//Sabre//Sabre VObject 4.5.8//EN
CALSCALE:GREGORIAN
BEGIN:VEVENT
UID:sabre-vobject-1dcf08a9-5f62-4bfb-9a37-922b50336e55
DTSTAMP:20260421T104244Z
SUMMARY:Feier der Erstkommunion
DESCRIPTION:https://pfarreien-bistum-augsburg.df-preview.de/feier-der-erstk
 ommunion_id1740757
DTSTART;TZID=Europe/Berlin:20260419T101500
DURATION:PT30M
LOCATION:St. Stephan
END:VEVENT
END:VCALENDAR
