BEGIN:VCALENDAR
VERSION:2.0
PRODID:-//Sabre//Sabre VObject 4.5.8//EN
CALSCALE:GREGORIAN
BEGIN:VEVENT
UID:sabre-vobject-f3d25b68-0d26-4749-862f-957dd4238d70
DTSTAMP:20260424T183223Z
SUMMARY:Lesehore/Laudes
DESCRIPTION:https://pfarreien-bistum-augsburg.df-preview.de/lesehore-laudes
 _id1740751
DTSTART;TZID=Europe/Berlin:20260424T071500
DURATION:PT30M
LOCATION:St. Anton
END:VEVENT
END:VCALENDAR
