BEGIN:VCALENDAR
VERSION:2.0
PRODID:-//Sabre//Sabre VObject 4.5.8//EN
CALSCALE:GREGORIAN
BEGIN:VEVENT
UID:sabre-vobject-09662cb8-a4d0-4218-a217-8cf29a9080a0
DTSTAMP:20260422T081551Z
SUMMARY:Hl. Messe in polnischer Sprache
DESCRIPTION:https://pfarreien-bistum-augsburg.df-preview.de/hl-messe-in-pol
 nischer-sprache_id1740748
DTSTART;TZID=Europe/Berlin:20260419T173000
DURATION:PT30M
LOCATION:St. Anton
END:VEVENT
END:VCALENDAR
