BEGIN:VCALENDAR
VERSION:2.0
PRODID:-//Sabre//Sabre VObject 4.5.8//EN
CALSCALE:GREGORIAN
BEGIN:VEVENT
UID:sabre-vobject-7b2a0ca7-146a-4039-8df1-77977a12b22e
DTSTAMP:20260420T190526Z
SUMMARY:Rosenkranz in den Anliegen der Mutter Gottes
DESCRIPTION:https://pfarreien-bistum-augsburg.df-preview.de/rosenkranz-in-d
 en-anliegen-der-mutter-gottes_id1740737
DTSTART;TZID=Europe/Berlin:20260418T170000
DURATION:PT30M
LOCATION:St. Anton
END:VEVENT
END:VCALENDAR
