BEGIN:VCALENDAR
VERSION:2.0
PRODID:-//Sabre//Sabre VObject 4.5.8//EN
CALSCALE:GREGORIAN
BEGIN:VEVENT
UID:sabre-vobject-3517b758-b0c2-432c-a2e1-cec77d128be7
DTSTAMP:20260422T120956Z
SUMMARY:Pfarrgottesdienst Hl. Messe für die leb. u. verst. Mitglieder der 
 Pfarrgemeinde
DESCRIPTION:https://pfarreien-bistum-augsburg.df-preview.de/pfarrgottesdien
 st-hl-messe-fuer-die-leb-u-verst-mitglieder-der-pfarrgemeinde_id1740728
DTSTART;TZID=Europe/Berlin:20260419T094500
DURATION:PT30M
LOCATION:St. Johannes Baptist
END:VEVENT
END:VCALENDAR
