BEGIN:VCALENDAR
VERSION:2.0
PRODID:-//Sabre//Sabre VObject 4.5.8//EN
CALSCALE:GREGORIAN
BEGIN:VEVENT
UID:sabre-vobject-217d65ac-e641-4fac-82c4-f7cea879197d
DTSTAMP:20260420T122143Z
SUMMARY:Heilige Messe
DESCRIPTION:https://pfarreien-bistum-augsburg.df-preview.de/heilige-messe_i
 d1740685
DTSTART;TZID=Europe/Berlin:20260422T193000
DURATION:PT30M
LOCATION:St. Michael
END:VEVENT
END:VCALENDAR
