BEGIN:VCALENDAR
VERSION:2.0
PRODID:-//Sabre//Sabre VObject 4.5.8//EN
CALSCALE:GREGORIAN
BEGIN:VEVENT
UID:sabre-vobject-8ddc5f01-8f4b-417b-97af-03767a9558dc
DTSTAMP:20260421T125539Z
SUMMARY:Rosenkranz in der St. Nikolauskapelle
DESCRIPTION:https://pfarreien-bistum-augsburg.df-preview.de/rosenkranz-in-d
 er-st-nikolauskapelle_id1740644
DTSTART;TZID=Europe/Berlin:20260501T130000
DURATION:PT30M
LOCATION:St. Clemens
END:VEVENT
END:VCALENDAR
