BEGIN:VCALENDAR
VERSION:2.0
PRODID:-//Sabre//Sabre VObject 4.5.8//EN
CALSCALE:GREGORIAN
BEGIN:VEVENT
UID:sabre-vobject-f853201f-3a6c-406a-9d1b-91060bb7d0cb
DTSTAMP:20260420T170631Z
SUMMARY:Evangelischer Gottesdienst
DESCRIPTION:https://pfarreien-bistum-augsburg.df-preview.de/evangelischer-g
 ottesdienst_id1740640
DTSTART;TZID=Europe/Berlin:20260426T113000
DURATION:PT30M
LOCATION:St. Clemens
END:VEVENT
END:VCALENDAR
