BEGIN:VCALENDAR
VERSION:2.0
PRODID:-//Sabre//Sabre VObject 4.5.8//EN
CALSCALE:GREGORIAN
BEGIN:VEVENT
UID:sabre-vobject-2720259e-f8a1-49e5-b230-e9a3a04c69f8
DTSTAMP:20260422T072136Z
SUMMARY:Rosenkranz
DESCRIPTION:https://pfarreien-bistum-augsburg.df-preview.de/rosenkranz_id17
 40565
DTSTART;TZID=Europe/Berlin:20260419T083000
DURATION:PT30M
LOCATION:St. Alexander und Georg\, Sonnenstraße 8\, 87448 Niedersonthofen
END:VEVENT
END:VCALENDAR
