BEGIN:VCALENDAR
VERSION:2.0
PRODID:-//Sabre//Sabre VObject 4.5.8//EN
CALSCALE:GREGORIAN
BEGIN:VEVENT
UID:sabre-vobject-ecc709a4-c62d-42e5-bfa4-a42415f02b94
DTSTAMP:20260421T094353Z
SUMMARY:Dankandacht der Erstkommunionkinder
DESCRIPTION:https://pfarreien-bistum-augsburg.df-preview.de/dankandacht-der
 -erstkommunionkinder_id1740512
DTSTART;TZID=Europe/Berlin:20260419T180000
DURATION:PT30M
LOCATION:Mutterschaft Mariens
END:VEVENT
END:VCALENDAR
