BEGIN:VCALENDAR
VERSION:2.0
PRODID:-//Sabre//Sabre VObject 4.5.8//EN
CALSCALE:GREGORIAN
BEGIN:VEVENT
UID:sabre-vobject-e307b90b-8dcb-4267-9eeb-193611b365c1
DTSTAMP:20260421T074837Z
SUMMARY:Heilige Messe für die Pfarrgemeinde
DESCRIPTION:https://pfarreien-bistum-augsburg.df-preview.de/heilige-messe-f
 uer-die-pfarrgemeinde_id1740209
DTSTART;TZID=Europe/Berlin:20260419T101500
DURATION:PT30M
LOCATION:Zum Guten Hirten
END:VEVENT
END:VCALENDAR
