BEGIN:VCALENDAR
VERSION:2.0
PRODID:-//Sabre//Sabre VObject 4.5.8//EN
CALSCALE:GREGORIAN
BEGIN:VEVENT
UID:sabre-vobject-75ed85aa-9bbe-49fe-a8b4-4613a02db6fa
DTSTAMP:20260420T224605Z
SUMMARY:Rosenkranz
DESCRIPTION:https://pfarreien-bistum-augsburg.df-preview.de/rosenkranz_id17
 40099
DTSTART;TZID=Europe/Berlin:20260421T170000
DURATION:PT30M
LOCATION:Christkönig
END:VEVENT
END:VCALENDAR
