BEGIN:VCALENDAR
VERSION:2.0
PRODID:-//Sabre//Sabre VObject 4.5.8//EN
CALSCALE:GREGORIAN
BEGIN:VEVENT
UID:sabre-vobject-31ef3fd5-29cc-412b-a559-b9a9559c7247
DTSTAMP:20260420T171104Z
SUMMARY:Feier der Erstkommunion
DESCRIPTION:https://pfarreien-bistum-augsburg.df-preview.de/feier-der-erstk
 ommunion_id1740061
DTSTART;TZID=Europe/Berlin:20260419T103000
DURATION:PT30M
LOCATION:St. Raphael\, Kolpingstr. 8a\, 86356 Neusäß
END:VEVENT
END:VCALENDAR
