BEGIN:VCALENDAR
VERSION:2.0
PRODID:-//Sabre//Sabre VObject 4.5.8//EN
CALSCALE:GREGORIAN
BEGIN:VEVENT
UID:sabre-vobject-5dabc5e7-8864-4117-9147-3038fbb55fe5
DTSTAMP:20260425T084813Z
SUMMARY:Laudes
DESCRIPTION:https://pfarreien-bistum-augsburg.df-preview.de/laudes_id174005
 2
DTSTART;TZID=Europe/Berlin:20260504T090000
DURATION:PT30M
LOCATION:Mariä Himmelfahrt
END:VEVENT
END:VCALENDAR
