BEGIN:VCALENDAR
VERSION:2.0
PRODID:-//Sabre//Sabre VObject 4.5.8//EN
CALSCALE:GREGORIAN
BEGIN:VEVENT
UID:sabre-vobject-29d7df2a-36de-4480-a4c2-5104ba91622b
DTSTAMP:20260421T094434Z
SUMMARY:Pfarrgottesdienst   e n t f ä l l t
DESCRIPTION:https://pfarreien-bistum-augsburg.df-preview.de/pfarrgottesdien
 st-e-n-t-f-ae-l-l-t_id1740031
DTSTART;TZID=Europe/Berlin:20260419T084500
DURATION:PT30M
LOCATION:Christkönig
END:VEVENT
END:VCALENDAR
