BEGIN:VCALENDAR
VERSION:2.0
PRODID:-//Sabre//Sabre VObject 4.5.8//EN
CALSCALE:GREGORIAN
BEGIN:VEVENT
UID:sabre-vobject-d0c6e34c-eed3-4507-b8f8-5cbcb2f8a00f
DTSTAMP:20260421T024257Z
SUMMARY:Rosenkranz
DESCRIPTION:https://pfarreien-bistum-augsburg.df-preview.de/rosenkranz_id17
 40013
DTSTART;TZID=Europe/Berlin:20260418T170000
DURATION:PT30M
LOCATION:Christkönig
END:VEVENT
END:VCALENDAR
