BEGIN:VCALENDAR
VERSION:2.0
PRODID:-//Sabre//Sabre VObject 4.5.8//EN
CALSCALE:GREGORIAN
BEGIN:VEVENT
UID:sabre-vobject-72615cfa-ecea-420b-aa64-efa81941770a
DTSTAMP:20260421T125510Z
SUMMARY:Tauffeier der Gemeinde
DESCRIPTION:https://pfarreien-bistum-augsburg.df-preview.de/tauffeier-der-g
 emeinde_id1740012
DTSTART;TZID=Europe/Berlin:20260418T140000
DURATION:PT30M
LOCATION:Christkönig
END:VEVENT
END:VCALENDAR
