BEGIN:VCALENDAR
VERSION:2.0
PRODID:-//Sabre//Sabre VObject 4.5.8//EN
CALSCALE:GREGORIAN
BEGIN:VEVENT
UID:sabre-vobject-d37bd5ae-5070-46ef-9e98-f5fc9ccda9ed
DTSTAMP:20260421T001127Z
SUMMARY:Beichtgelegenheit
DESCRIPTION:https://pfarreien-bistum-augsburg.df-preview.de/beichtgelegenhe
 it_id1740005
DTSTART;TZID=Europe/Berlin:20260502T180000
DURATION:PT30M
LOCATION:St. Johannes Baptist
END:VEVENT
END:VCALENDAR
