BEGIN:VCALENDAR
VERSION:2.0
PRODID:-//Sabre//Sabre VObject 4.5.8//EN
CALSCALE:GREGORIAN
BEGIN:VEVENT
UID:sabre-vobject-936b8794-590b-496b-8167-543d43992ab4
DTSTAMP:20260423T223958Z
SUMMARY:Anbetung vor dem Allerheiligsten
DESCRIPTION:https://pfarreien-bistum-augsburg.df-preview.de/anbetung-vor-de
 m-allerheiligsten_id1739922
DTSTART;TZID=Europe/Berlin:20260423T190000
DURATION:PT30M
LOCATION:Christkönig
END:VEVENT
END:VCALENDAR
