BEGIN:VCALENDAR
VERSION:2.0
PRODID:-//Sabre//Sabre VObject 4.5.8//EN
CALSCALE:GREGORIAN
BEGIN:VEVENT
UID:sabre-vobject-87660139-ef35-40a1-be43-98221babbd23
DTSTAMP:20260422T192406Z
SUMMARY:Pfarrgottesdienst für Lebende und Verstorbene der Pfarreiengemeins
 chaft
DESCRIPTION:https://pfarreien-bistum-augsburg.df-preview.de/pfarrgottesdien
 st-fuer-lebende-und-verstorbene-der-pfarreiengemeinschaft_id1739874
DTSTART;TZID=Europe/Berlin:20260426T090000
DURATION:PT30M
LOCATION:Mariä Himmelfahrt
END:VEVENT
END:VCALENDAR
