BEGIN:VCALENDAR
VERSION:2.0
PRODID:-//Sabre//Sabre VObject 4.5.8//EN
CALSCALE:GREGORIAN
BEGIN:VEVENT
UID:sabre-vobject-0f2b32f6-fe54-4c52-b2b7-f54e5465514d
DTSTAMP:20260421T223853Z
SUMMARY:Patrozinium zum Hl. Gregor
DESCRIPTION:https://pfarreien-bistum-augsburg.df-preview.de/patrozinium-zum
 -hl-gregor_id1739821
DTSTART;TZID=Europe/Berlin:20260426T100000
DURATION:PT30M
LOCATION:St. Georg und Gregor
END:VEVENT
END:VCALENDAR
